BEGIN:VCALENDAR
VERSION:2.0
PRODID:-//Juegos del Agua - ECPv6.15.11//NONSGML v1.0//EN
CALSCALE:GREGORIAN
METHOD:PUBLISH
X-ORIGINAL-URL:https://www.juegosdelagua.es
X-WR-CALDESC:Eventos para Juegos del Agua
REFRESH-INTERVAL;VALUE=DURATION:PT1H
X-Robots-Tag:noindex
X-PUBLISHED-TTL:PT1H
BEGIN:VTIMEZONE
TZID:Europe/Madrid
BEGIN:DAYLIGHT
TZOFFSETFROM:+0100
TZOFFSETTO:+0200
TZNAME:CEST
DTSTART:20250330T010000
END:DAYLIGHT
BEGIN:STANDARD
TZOFFSETFROM:+0200
TZOFFSETTO:+0100
TZNAME:CET
DTSTART:20251026T010000
END:STANDARD
BEGIN:DAYLIGHT
TZOFFSETFROM:+0100
TZOFFSETTO:+0200
TZNAME:CEST
DTSTART:20260329T010000
END:DAYLIGHT
BEGIN:STANDARD
TZOFFSETFROM:+0200
TZOFFSETTO:+0100
TZNAME:CET
DTSTART:20261025T010000
END:STANDARD
BEGIN:DAYLIGHT
TZOFFSETFROM:+0100
TZOFFSETTO:+0200
TZNAME:CEST
DTSTART:20270328T010000
END:DAYLIGHT
BEGIN:STANDARD
TZOFFSETFROM:+0200
TZOFFSETTO:+0100
TZNAME:CET
DTSTART:20271031T010000
END:STANDARD
END:VTIMEZONE
BEGIN:VEVENT
DTSTART;VALUE=DATE:20260926
DTEND;VALUE=DATE:20260928
DTSTAMP:20260423T100821
CREATED:20260416T174400Z
LAST-MODIFIED:20260421T154509Z
UID:18505-1790380800-1790553599@www.juegosdelagua.es
SUMMARY:Etapa Final de la Copa de España RFEN de Aguas Abiertas
DESCRIPTION:La natación en aguas abiertas es una de las cinco especialidades acuáticas auspiciadas y organizadas en España por la Real Federación Española de Natación (RFEN Aquatics). Se trata de una disciplina olímpica que consiste en nadar distancias largas (3\, 5 y 10 kilómetros\, siendo ésta última la única distancia en JJOO) en entornos naturales como mares\, ríos\, lagos o lagunas\, aunque con la excepción del Campeonato de España de Invierno de Larga Distancia\, que se nada en piscina cubierta con calles reglamentarias y una distancia tope de 5.000 metros.  \nDicha modalidad exige una gran resistencia\, una buena orientación visual al ser las pruebas sin corcheras (calles)\, una gran capacidad para gestionar corrientes marinas y posible oleaje\, y unas técnicas específicas de respiración. Aporta unos valores de trabajo\, sacrificio\, compañerismo (en pruebas de equipo)\, respeto y cuidado del entorno (medioambiente). \nLas principales referencias españolas son María de Valdés (Fuengirola/1998)\, nadadora olímpica en París 2024\, plata mundial en Doha 2024 y europea en Roma 2022\, bronce europeo en Stari Grad 2025 y cuarta del Mundo en Singapur 2025; y Ángela Martínez (Elche/2004)\, décima en los JJOO de París 2025\, oro en la Copa del Mundo Ibiza 2025 (el primero de España en la historia de esta competición)\, y quinta del Mundo en Singapur 2025.
URL:https://www.juegosdelagua.es/event/etapa-final-de-la-copa-de-espana-rfen-de-aguas-abiertas/
LOCATION:Melilla\, Spain
CATEGORIES:Natación
ATTACH;FMTTYPE=image/jpeg:https://www.juegosdelagua.es/wp-content/uploads/2026/04/DBM-Maria-de-Valdes-GS41917-scaled.jpg
END:VEVENT
END:VCALENDAR