BEGIN:VCALENDAR
VERSION:2.0
PRODID:-//Juegos del Agua - ECPv6.15.11//NONSGML v1.0//EN
CALSCALE:GREGORIAN
METHOD:PUBLISH
X-WR-CALNAME:Juegos del Agua
X-ORIGINAL-URL:https://www.juegosdelagua.es
X-WR-CALDESC:Eventos para Juegos del Agua
REFRESH-INTERVAL;VALUE=DURATION:PT1H
X-Robots-Tag:noindex
X-PUBLISHED-TTL:PT1H
BEGIN:VTIMEZONE
TZID:Europe/Madrid
BEGIN:DAYLIGHT
TZOFFSETFROM:+0100
TZOFFSETTO:+0200
TZNAME:CEST
DTSTART:20250330T010000
END:DAYLIGHT
BEGIN:STANDARD
TZOFFSETFROM:+0200
TZOFFSETTO:+0100
TZNAME:CET
DTSTART:20251026T010000
END:STANDARD
BEGIN:DAYLIGHT
TZOFFSETFROM:+0100
TZOFFSETTO:+0200
TZNAME:CEST
DTSTART:20260329T010000
END:DAYLIGHT
BEGIN:STANDARD
TZOFFSETFROM:+0200
TZOFFSETTO:+0100
TZNAME:CET
DTSTART:20261025T010000
END:STANDARD
BEGIN:DAYLIGHT
TZOFFSETFROM:+0100
TZOFFSETTO:+0200
TZNAME:CEST
DTSTART:20270328T010000
END:DAYLIGHT
BEGIN:STANDARD
TZOFFSETFROM:+0200
TZOFFSETTO:+0100
TZNAME:CET
DTSTART:20271031T010000
END:STANDARD
END:VTIMEZONE
BEGIN:VEVENT
DTSTART;VALUE=DATE:20261016
DTEND;VALUE=DATE:20261018
DTSTAMP:20260424T212710
CREATED:20260416T173603Z
LAST-MODIFIED:20260421T154326Z
UID:18498-1792108800-1792281599@www.juegosdelagua.es
SUMMARY:Exhibición Melilla Ciudad del Deporte de Esquí Náutico
DESCRIPTION:La Federación Española de Esquí Náutico y Wakeboard formará parte de los Juegos del Agua 2026 en Melilla\, donde traerá a algunos de sus mejores deportistas para ofrecer una espectacular exhibición de sus tres disciplinas principales: Esquí Náutico\, Wakeboard y Wakesurf. \n  \nESQUÍ NÁUTICO: \nDentro del Esquí Náutico se presentarán dos disciplinas: Slalom y Figuras. \nSlalom: El Slalom consiste en realizar seis virajes alrededor de seis boyas dispuestas alternativamente a ambos lados del canal por el que navega la embarcación. El esquiador debe superarlas en zigzag\, completando el recorrido sin fallos. \nCada vez que se superan las seis boyas\, la velocidad del barco aumenta progresivamente hasta alcanzar los 58 km/h en categoría masculina y 55 km/h en categoría femenina. Una vez alcanzada la velocidad máxima\, la dificultad se incrementa acortando la cuerda\, que pasa de 18\,25 m a 16 m\, 14\,25 m\, 13 m\, 12 m\, 11\,25 m\, 10\,75 m\, 10\,25 m y 9\,75 m. Estas reducciones sucesivas obligan al deportista a generar mayor velocidad y precisión en cada giro. El objetivo es conseguir el mayor número de boyas con la cuerda más corta posible. \n \nFiguras: La disciplina de Figuras se desarrolla en un campo delimitado por dos boyas de entrada y dos de salida. El esquiador dispone de dos pasadas de 20 segundos cada una para ejecutar el máximo número de figuras. \nLa puntuación varía en función de la dificultad técnica de cada figura. Las maniobras pueden realizarse con la cuerda en las manos o sujeta al pie\, aprovechando tanto la superficie plana del agua como la estela del barco. \n \nWAKEBOARD: \nEn Wakeboard\, el deportista es arrastrado por una embarcación mediante una cuerda y un palonier\, utilizando una tabla similar a la de surf o snowboard. Aprovecha la ola generada por la estela para impulsarse de un lado a otro y ejecutar saltos\, rotaciones y grabs. \nEsta disciplina combina técnica\, potencia y creatividad\, y se inspira en deportes como el snowboard\, el surf o el monopatín\, ofreciendo un espectáculo dinámico y visualmente impactante. \n \nWAKESURF: \nEl Wakesurf se practica surfeando la ola creada por la embarcación\, pero sin estar sujeto a ella. El deportista utiliza la cuerda únicamente al inicio\, para salir del agua y posicionarse correctamente en la ola\, soltándola una vez estabilizado. \nLas olas generadas en esta modalidad recrean sensaciones muy similares a las del surf en el océano\, aunque ambas disciplinas mantienen diferencias técnicas a niveles avanzados. Una de las grandes ventajas del wakesurf es que la ola es continua\, lo que permite encadenar maniobras sin límite de recorrido. \nEn competición\, los jueces valoran la calidad\, dificultad y ejecución técnica de las maniobras realizadas sobre la ola. \n \n\nHorarios del evento\n\n\nJornada\nHorario\n\n\n\n\nMañana\n10:00 – 12:00\n\n\nTarde\n16:00 – 18:00
URL:https://www.juegosdelagua.es/event/exhibicion-de-esqui-nautico-wakeboard-y-wakesurf/
LOCATION:Melilla\, Spain
CATEGORIES:Esquí Náutico
ATTACH;FMTTYPE=image/jpeg:https://www.juegosdelagua.es/wp-content/uploads/2026/04/slalom.jpg
END:VEVENT
END:VCALENDAR