BEGIN:VCALENDAR
VERSION:2.0
PRODID:-//Juegos del Agua - ECPv6.15.11//NONSGML v1.0//EN
CALSCALE:GREGORIAN
METHOD:PUBLISH
X-ORIGINAL-URL:https://www.juegosdelagua.es
X-WR-CALDESC:Eventos para Juegos del Agua
REFRESH-INTERVAL;VALUE=DURATION:PT1H
X-Robots-Tag:noindex
X-PUBLISHED-TTL:PT1H
BEGIN:VTIMEZONE
TZID:Europe/Madrid
BEGIN:DAYLIGHT
TZOFFSETFROM:+0100
TZOFFSETTO:+0200
TZNAME:CEST
DTSTART:20210328T010000
END:DAYLIGHT
BEGIN:STANDARD
TZOFFSETFROM:+0200
TZOFFSETTO:+0100
TZNAME:CET
DTSTART:20211031T010000
END:STANDARD
BEGIN:DAYLIGHT
TZOFFSETFROM:+0100
TZOFFSETTO:+0200
TZNAME:CEST
DTSTART:20220327T010000
END:DAYLIGHT
BEGIN:STANDARD
TZOFFSETFROM:+0200
TZOFFSETTO:+0100
TZNAME:CET
DTSTART:20221030T010000
END:STANDARD
BEGIN:DAYLIGHT
TZOFFSETFROM:+0100
TZOFFSETTO:+0200
TZNAME:CEST
DTSTART:20230326T010000
END:DAYLIGHT
BEGIN:STANDARD
TZOFFSETFROM:+0200
TZOFFSETTO:+0100
TZNAME:CET
DTSTART:20231029T010000
END:STANDARD
END:VTIMEZONE
BEGIN:VTIMEZONE
TZID:UTC
BEGIN:STANDARD
TZOFFSETFROM:+0000
TZOFFSETTO:+0000
TZNAME:UTC
DTSTART:20210101T000000
END:STANDARD
END:VTIMEZONE
BEGIN:VEVENT
DTSTART;VALUE=DATE:20221002
DTEND;VALUE=DATE:20221003
DTSTAMP:20260423T084517
CREATED:20220525T072508Z
LAST-MODIFIED:20220916T064917Z
UID:1799-1664668800-1664755199@www.juegosdelagua.es
SUMMARY:Campeonato de España SUP Velocidad
DESCRIPTION:Campeonato de España modalidad Stand Up Paddle en una carrera en la que todos los participantes salen a la vez desde el borde del agua y se debe recorrer una distancia que no ha de exceder la milla náutica (algo más de 1\,5 kilómetros). Hay un recorrido de ida y vuelta\, en el que se ha de hacer un viraje para volver hasta el punto de salida\, donde habrá que bajarse de la tabla y correr entre 20 y 40 metros con el remo en la mano y pegado al cuerpo (para evitar golpear a los rivales). Estas distancias son para competiciones de adultos\, siendo más cortas en categorías inferiores. \n 
URL:https://www.juegosdelagua.es/event/campeonato-de-espana-de-larga-distancia-sup-2/
LOCATION:San Pedro del Pinatar\, Playa la Puntica\, San Pedro del Pinatar\, Murcia\, 30740\, España
CATEGORIES:Surfing
ATTACH;FMTTYPE=image/jpeg:https://www.juegosdelagua.es/wp-content/uploads/2022/05/Imagen-112-1.jpg
END:VEVENT
BEGIN:VEVENT
DTSTART;TZID=Europe/Madrid:20221001T080000
DTEND;TZID=Europe/Madrid:20221002T170000
DTSTAMP:20260423T084517
CREATED:20220524T160216Z
LAST-MODIFIED:20220713T134829Z
UID:1741-1664611200-1664730000@www.juegosdelagua.es
SUMMARY:Campeonato de España de Wakeboard y Wakeskate Barco
DESCRIPTION:Esta es la competición a partir de una combinación de técnicas del esquí náutico\, del snowboard y del surf. El Rider es arrastrado por un barco con la ayuda de una cuerda y de un palonnier\, utiliza una tabla que se parece a un surf o un snowboard y saca provecho de la ola creada por la estela para saltar de una y otra parte de este último y hacer diferentes figuras\, saltos\, rotaciones\, grabs. En tanto\, el Wakeskate Barco se diferencia en la tabla en la cual va el deportista\, siendo muy similar a la de una de Skateboard.
URL:https://www.juegosdelagua.es/event/campeonato-de-espana-de-wakeboard-y-wakeskate-barco/
LOCATION:Cartagena\, La Manga del Mar Menor\, Club Náutico dos mares\, Cartagena\, Murcia\, 30380\, España
CATEGORIES:Esquí Náutico
ATTACH;FMTTYPE=image/jpeg:https://www.juegosdelagua.es/wp-content/uploads/2022/05/Imagen-1123.jpg
END:VEVENT
BEGIN:VEVENT
DTSTART;TZID=Europe/Madrid:20221001T080000
DTEND;TZID=Europe/Madrid:20221002T170000
DTSTAMP:20260423T084517
CREATED:20220524T155628Z
LAST-MODIFIED:20220916T065126Z
UID:1733-1664611200-1664730000@www.juegosdelagua.es
SUMMARY:Campeonato de España de Flyski
DESCRIPTION:Es una prueba individual de deportistas que hacen figuras y acrobacias encima de un Flyski\, que es un dispositivo hidro-propulsado por una moto de agua y que le permite mantenerse encima del agua y estable en el aire. Cada participante tendrá un tiempo de 1\,5 minutos para realizar las figuras que pueda y serán puntuadas del 1 al 10 por el jurado. Se celebrarán varias mangas clasificatorias hasta la batalla final\, siendo el ganador el que consiga mejor puntuación en esta batalla final. \n  \n 
URL:https://www.juegosdelagua.es/event/campeonato-de-espana-de-flyski/
LOCATION:Cartagena\, El Zulo\, Cartagena\, Murcia\, 30201\, España
CATEGORIES:Motonáutica
ATTACH;FMTTYPE=application/pdf:https://www.juegosdelagua.es/wp-content/uploads/2022/05/FLYSKY-ESPANA-logo.pdf
END:VEVENT
BEGIN:VEVENT
DTSTART;TZID=Europe/Madrid:20221001T080000
DTEND;TZID=Europe/Madrid:20221002T170000
DTSTAMP:20260423T084517
CREATED:20220524T153753Z
LAST-MODIFIED:20220526T131726Z
UID:1714-1664611200-1664730000@www.juegosdelagua.es
SUMMARY:Campeonato de España de Larga Distancia SUP
DESCRIPTION:Campeonato de España modalidad Stand Up Paddle en carrera de larga distancia (SUP Race) en todas las categorías oficiales de la Federación Española de Surfing. Los recorridos se adaptan según edad\, siendo de máximo 15 km para master\, elite y sub18. Existirán carreras de promoción en dos categorías Amateur y Popular en distancias aproximadas de 6 km y 3 km respectivamente. Estas son accesibles a no federados\, a través de una inscripción que incluye una ficha/seguro específico para la carrera. Existe una categoría de SUP Adaptado para deportistas con algún tipo de capacidad reducida. \n 
URL:https://www.juegosdelagua.es/event/campeonato-de-espana-de-larga-distancia-sup/
LOCATION:Cabo de Palos\, Playa de Levante\, 44\, Cartagena\, Murcia\, 30370\, España
CATEGORIES:Surfing
ATTACH;FMTTYPE=image/jpeg:https://www.juegosdelagua.es/wp-content/uploads/2022/05/Imagen-112-1.jpg
END:VEVENT
BEGIN:VEVENT
DTSTART;VALUE=DATE:20221001
DTEND;VALUE=DATE:20221003
DTSTAMP:20260423T084517
CREATED:20220523T073819Z
LAST-MODIFIED:20220526T132232Z
UID:1681-1664582400-1664755199@www.juegosdelagua.es
SUMMARY:Campeonato de Triatlón Sprint
DESCRIPTION:El triatlón clásico se compone de natación\, ciclismo y carrera a pie en ese orden. Además la natación es en aguas abiertas\, el ciclismo se realiza en asfalto con bici de carretera y la carrera a pie principalmente en un circuito urbano. El triatleta compite de forma individual al mismo tiempo que el resto de participantes.  \nEn tanto el Sprint Es la mitad de la distancia olímpica y en los últimos años se ha hecho su hueco en las series mundiales debido a lo emocionante que es. Consta de 0.75 km nadando\, 20 km en bici y 5 km corriendo. \n 
URL:https://www.juegosdelagua.es/event/campeonato-de-triatlon-sprint/
LOCATION:Cartagena\, El Zulo\, Cartagena\, Murcia\, 30201\, España
CATEGORIES:Triatlón
ATTACH;FMTTYPE=image/png:https://www.juegosdelagua.es/wp-content/uploads/2022/05/Imagen-1-1.png
END:VEVENT
BEGIN:VEVENT
DTSTART;TZID=UTC:20220929T110000
DTEND;TZID=UTC:20221002T140000
DTSTAMP:20260423T084517
CREATED:20220915T091927Z
LAST-MODIFIED:20220915T114735Z
UID:2802-1664449200-1664719200@www.juegosdelagua.es
SUMMARY:Campeonato de Vela Inclusiva
DESCRIPTION:El Campeonato de España para las Clases 2.4mR y Hansa 303\, se celebrará en aguas de Loa Alcázares (Mar Menor)\, Murcia del 28 de Septiembre al 2 de Octubre de 2022\, ambos inclusive. \n 
URL:https://www.juegosdelagua.es/event/campeonato-de-vela-inclusiva/
LOCATION:CAR Infanta Cristina\, P.º las Palmeras\, Los Alcázares\, Murcia\, 30710\, España
CATEGORIES:Vela
ATTACH;FMTTYPE=image/png:https://www.juegosdelagua.es/wp-content/uploads/2022/05/111.png
END:VEVENT
BEGIN:VEVENT
DTSTART;TZID=Europe/Madrid:20220929T080000
DTEND;TZID=Europe/Madrid:20221002T170000
DTSTAMP:20260423T084517
CREATED:20220524T153446Z
LAST-MODIFIED:20220916T065154Z
UID:1711-1664438400-1664730000@www.juegosdelagua.es
SUMMARY:Campeonato de España de Radiocontrol
DESCRIPTION:Campeonato de España Vela de Radio Control \nConsiste en manejar embarcaciones de forma teledirigida\, estos barcos son pequeños balandros de un metro de eslora y cuatro kilos de desplazamiento\, con los que se realizan regatas básicamente con las mismas normas que las demás clases de vela\, siendo muy similares a las de la vela ligera. \nLa gran diferencia es que se controla el barco desde tierra con equipos de radiocontrol los cuales\, mueven las velas y el timón.  \n \n  \n 
URL:https://www.juegosdelagua.es/event/campeonato-de-espana-de-radiocontrol/
LOCATION:Santiago de la Ribera\, P.º Colón\, 25A\, San Javier\, Murcia\, 30720\, España
CATEGORIES:Vela
ATTACH;FMTTYPE=image/png:https://www.juegosdelagua.es/wp-content/uploads/2022/05/111.png
END:VEVENT
BEGIN:VEVENT
DTSTART;TZID=Europe/Madrid:20220929T080000
DTEND;TZID=Europe/Madrid:20221002T170000
DTSTAMP:20260423T084517
CREATED:20220524T153112Z
LAST-MODIFIED:20220526T132321Z
UID:1708-1664438400-1664730000@www.juegosdelagua.es
SUMMARY:Campeonato de España Clase Catamarán
DESCRIPTION:Campeonato de España Clase Catamarán\, en cinco clases de embarcaciones: \n     -La Clase A es un catamarán de peso muy reducido -75 kilos- de un solo tripulante y una sola vela\, la mayor. Se trata de una clase ‘fórmula’ para la que únicamente se especifica la longitud (5\,49m)\, la manga (2\,30 m)\, la superficie vélica (13\,94m) y el mencionado peso mínimo para navegar (75 kg). \n    -El Hobie 16 es un catamarán de 16 pies (5.05 m de largo y 2.43 m de manga) para dos personas con doble trapecio. Fue comercializado por primera vez en Estados Unidos en el año 1969 y es uno de los barcos más antiguos en el circuito en lo que a diseño se refiere\, sin haber sufrido apenas modificaciones.  \n    -Los Fórmula 18 son catamaranes de competición de 18 pies para dos personas (5\,51 m de eslora y 2\,6 m de manga) con un peso listo para navegar de 180 kg. La superficie vélica no puede superar los 21\,15 m2 (mayor 17 m2 y foque 4\,15 m2)\, y el spinnaker los 21 m2. \n    -Por último la categoría ‘Interseries’ agrupa a casi todos los catamaranes de vela ligera y les permite competir en tiempo compensado\n\n\n\n  \n 
URL:https://www.juegosdelagua.es/event/campeonato-de-espana-clase-catamaran/
LOCATION:CAR Infanta Cristina\, P.º las Palmeras\, Los Alcázares\, Murcia\, 30710\, España
CATEGORIES:Vela
ATTACH;FMTTYPE=image/jpeg:https://www.juegosdelagua.es/wp-content/uploads/2022/05/Imagen-8-e1653484459898.jpg
END:VEVENT
BEGIN:VEVENT
DTSTART;TZID=Europe/Madrid:20220929T080000
DTEND;TZID=Europe/Madrid:20221001T170000
DTSTAMP:20260423T084517
CREATED:20220524T160001Z
LAST-MODIFIED:20220526T133039Z
UID:1738-1664438400-1664643600@www.juegosdelagua.es
SUMMARY:XII Campeonato de España de Mar-Costa Dúos
DESCRIPTION:El XII Campeonato de España y Concentración Nacional Mar-Costa Dúos es un modo de participación en el que la pareja es una unidad deportiva. La competición se desarrolla con el sistema de captura y suelta\, es decir\, las capturas se miden para darles un valor deportivo según su medida y se sueltan vivas al mar. En esta Competición se emitirán tres clasificaciones y serán las que correspondan a la celebración del Campeonato de España (Dúos y Selecciones Autonómicas) y la que se confeccionará únicamente entre los deportistas de Alto Nivel que servirá para confeccionar la Selección Nacional que representará a España en el próximo Campeonato del Mundo. \n  \n \n  \n  \n  \n 
URL:https://www.juegosdelagua.es/event/xii-campeonato-de-espana-de-mar-costa-duos/
LOCATION:La Manga del Mar Menor\, Playa del Pedrucho\, San Javier\, Murcia\, 30380\, España
CATEGORIES:Pesca y Casting
ATTACH;FMTTYPE=image/jpeg:https://www.juegosdelagua.es/wp-content/uploads/2022/05/Logo2019_vertical250x230.jpeg
END:VEVENT
BEGIN:VEVENT
DTSTART;TZID=Europe/Madrid:20220925T080000
DTEND;TZID=Europe/Madrid:20220925T170000
DTSTAMP:20260423T084517
CREATED:20220524T154841Z
LAST-MODIFIED:20220916T064755Z
UID:1724-1664092800-1664125200@www.juegosdelagua.es
SUMMARY:Campeonato de España Travesía K4 y C4
DESCRIPTION: Campeonato de Piragüismo modalidad K4 y C4 organizados por la Real Federación Española De Piragüismo\, en la cual existen dos tipos de embarcaciones. Kayak de 4 deportistas y Canoa del mismo número de participantes. Es una prueba en mar abierto\, donde se utilizan embarcaciones específicas más estables\, con la proa y la popa ligeramente levantadas para poder abrir una ola\, y con compartimentos estancos\, lo que permite cubrir largas distancias\, siendo en este campeonato 5 km hasta la línea de meta.\n\n\n\n 
URL:https://www.juegosdelagua.es/event/campeonato-de-espana-travesia-k4-y-c4/
LOCATION:Santiago de la Ribera\, P.º Colón\, 25A\, San Javier\, Murcia\, 30720\, España
CATEGORIES:Piragüismo
ATTACH;FMTTYPE=image/png:https://www.juegosdelagua.es/wp-content/uploads/2022/05/Imagen-111.png
END:VEVENT
BEGIN:VEVENT
DTSTART;VALUE=DATE:20220925
DTEND;VALUE=DATE:20220926
DTSTAMP:20260423T084517
CREATED:20220524T134426Z
LAST-MODIFIED:20220526T133108Z
UID:1694-1664064000-1664150399@www.juegosdelagua.es
SUMMARY:Etapa Final de la VII Copa de España de Aguas Abiertas
DESCRIPTION:La copa de España de Aguas Abiertas es el Circuito Nacional de referencia de las Aguas Abiertas\, integrando las travesías más importantes de España\, donde participan los mejores especialistas de la disciplina. \n  \n 
URL:https://www.juegosdelagua.es/event/etapa-final-de-la-vii-copa-de-espana-de-aguas-abiertas/
LOCATION:Cartagena\, El Zulo\, Cartagena\, Murcia\, 30201\, España
CATEGORIES:Natación
ATTACH;FMTTYPE=image/jpeg:https://www.juegosdelagua.es/wp-content/uploads/2022/05/Logo-RFENaquatics-1.jpeg
END:VEVENT
BEGIN:VEVENT
DTSTART;TZID=Europe/Madrid:20220924T080000
DTEND;TZID=Europe/Madrid:20220925T170000
DTSTAMP:20260423T084517
CREATED:20220524T155504Z
LAST-MODIFIED:20220916T064548Z
UID:1731-1664006400-1664125200@www.juegosdelagua.es
SUMMARY:Campeonato de España de Motos de Agua de Circuito
DESCRIPTION:El Campeonato de España de Motos Acuáticas es\, actualmente\, uno de los deportes más vistosos y llamativos para el espectador. La mezcla del motor\, el mar y la velocidad\, lo hacen especialmente atractivo. Las competiciones contarán con motos de agua de hasta 400 cv y velocidades máximas de 140km. En un circuito delimitado por boyas\, los pilotos tendrán que dar el máximo para pasar el damero final en primera posición. En la prueba de offshrore los pilotos tendrán que demostrar también su capacidad de orientación en el mar\, en un recorrido tipo raid de casi 100 millas de distancia total.\n\n\n\n 
URL:https://www.juegosdelagua.es/event/campeonato-de-espana-de-motos-de-agua-de-circuito/
LOCATION:Cabo de Palos\, Playa de Levante\, 44\, Cartagena\, Murcia\, 30370\, España
CATEGORIES:Motonáutica
ATTACH;FMTTYPE=image/png:https://www.juegosdelagua.es/wp-content/uploads/2022/05/41.RFEM_.png
END:VEVENT
BEGIN:VEVENT
DTSTART;TZID=Europe/Madrid:20220924T080000
DTEND;TZID=Europe/Madrid:20220925T170000
DTSTAMP:20260423T084517
CREATED:20220524T155345Z
LAST-MODIFIED:20220916T064635Z
UID:1729-1664006400-1664125200@www.juegosdelagua.es
SUMMARY:Campeonato de España de Motos de Agua de Offshore
DESCRIPTION:El Campeonato de España de Motos Acuáticas es\, actualmente\, uno de los deportes más vistosos y llamativos para el espectador. La mezcla del motor\, el mar y la velocidad\, lo hacen especialmente atractivo. Las competiciones contarán con motos de agua de hasta 400 cv y velocidades máximas de 140km. En un circuito delimitado por boyas\, los pilotos tendrán que dar el máximo para pasar el damero final en primera posición. En la prueba de offshrore los pilotos tendrán que demostrar también su capacidad de orientación en el mar\, en un recorrido tipo raid de casi 100 millas de distancia total.\n\n\n\n  \n 
URL:https://www.juegosdelagua.es/event/campeonato-de-espana-de-motos-de-agua-de-offshore/
LOCATION:Cabo de Palos\, Playa de Levante\, 44\, Cartagena\, Murcia\, 30370\, España
CATEGORIES:Motonáutica
ATTACH;FMTTYPE=image/png:https://www.juegosdelagua.es/wp-content/uploads/2022/05/41.RFEM_.png
END:VEVENT
BEGIN:VEVENT
DTSTART;TZID=Europe/Madrid:20220924T080000
DTEND;TZID=Europe/Madrid:20220925T170000
DTSTAMP:20260423T084517
CREATED:20220524T155242Z
LAST-MODIFIED:20220916T064655Z
UID:1726-1664006400-1664125200@www.juegosdelagua.es
SUMMARY:Campeonato de España de Motos de Agua de Rallyjet
DESCRIPTION:El Campeonato de España de Motos Acuáticas es\, actualmente\, uno de los deportes más vistosos y llamativos para el espectador. La mezcla del motor\, el mar y la velocidad\, lo hacen especialmente atractivo. Las competiciones contarán con motos de agua de hasta 400 cv y velocidades máximas de 140km. En un circuito delimitado por boyas\, los pilotos tendrán que dar el máximo para pasar el damero final en primera posición. En la prueba de offshrore los pilotos tendrán que demostrar también su capacidad de orientación en el mar\, en un recorrido tipo raid de casi 100 millas de distancia total.\n\n\n\n 
URL:https://www.juegosdelagua.es/event/campeonato-de-espana-de-motos-de-agua-de-rallyjet/
LOCATION:Cabo de Palos\, Playa de Levante\, 44\, Cartagena\, Murcia\, 30370\, España
CATEGORIES:Motonáutica
ATTACH;FMTTYPE=image/png:https://www.juegosdelagua.es/wp-content/uploads/2022/05/41.RFEM_.png
END:VEVENT
BEGIN:VEVENT
DTSTART;TZID=Europe/Madrid:20220924T080000
DTEND;TZID=Europe/Madrid:20220924T170000
DTSTAMP:20260423T084517
CREATED:20220524T154653Z
LAST-MODIFIED:20220916T064815Z
UID:1722-1664006400-1664038800@www.juegosdelagua.es
SUMMARY:Copa de España de Barco Dragón
DESCRIPTION:Copa de piragüismo modalidad Barco Dragón\, la cual es una embarcación cuya tripulación está compuesta de 12 o 22 palistas\, donde uno de ellos es el tambor\, que dirige el ritmo de palada\, y otro es el timonel\, que lleva la dirección del barco. Sus tripulaciones las forman tanto hombres como mujeres (pudiendo ser también mixtas)\, dentro de las categorías Júnior\, Sénior\, Open\, Mixto y Veteranos. La distancia de esta competencia será de 2.000 mts.
URL:https://www.juegosdelagua.es/event/copa-de-espana-de-barco-dragon/
LOCATION:San Pedro del Pinatar\, Playa la Puntica\, San Pedro del Pinatar\, Murcia\, 30740\, España
CATEGORIES:Piragüismo
ATTACH;FMTTYPE=image/png:https://www.juegosdelagua.es/wp-content/uploads/2022/05/Imagen-111.png
END:VEVENT
BEGIN:VEVENT
DTSTART;TZID=Europe/Madrid:20220923T080000
DTEND;TZID=Europe/Madrid:20220925T170000
DTSTAMP:20260423T084517
CREATED:20220524T155801Z
LAST-MODIFIED:20220526T133425Z
UID:1736-1663920000-1664125200@www.juegosdelagua.es
SUMMARY:XII Campeonato de España de Pesca desde Kayak
DESCRIPTION:El XII Campeonato de España de pesca desde kayak\, categoría absoluta\, se regirá por el reglamento de competiciones de pesca deportiva y casting de la FEPyC. La competición se realizará a dos mangas de cinco horas de duración en los escenarios y coordenadas previamente establecidas en la convocatoria. Para el Kayak se prohíbe cualquier tipo de propulsión que no sea la generada por la acción física del deportista y la distancia entre los participantes debe mantenerse en un mínimo de 50m.\n\n\n\n  \n 
URL:https://www.juegosdelagua.es/event/xii-campeonato-de-espana-de-pesca-desde-kayak/
LOCATION:Lo Pagán\, Club Náutico Villa de San Pedro\, San Pedro Del Pinatar\, Murcia\, 30740\, España
CATEGORIES:Pesca y Casting
ATTACH;FMTTYPE=image/jpeg:https://www.juegosdelagua.es/wp-content/uploads/2022/05/Logo2019_vertical250x230.jpeg
END:VEVENT
BEGIN:VEVENT
DTSTART;TZID=Europe/Madrid:20220923T080000
DTEND;TZID=Europe/Madrid:20220925T170000
DTSTAMP:20260423T084517
CREATED:20220524T154407Z
LAST-MODIFIED:20220713T125123Z
UID:1720-1663920000-1664125200@www.juegosdelagua.es
SUMMARY:Campeonato de España de Remo de Mar
DESCRIPTION:El Campeonato de España de Remo de Mar que celebraremos este año 2022 es la octava edición de una modalidad de remo que es la más joven en comparación con el remo olímpico y tradicional que se practica en España\, que por el contrario es la que más está creciendo exponencialmente y cada año se superan los récords de participación en esta prueba. Este tipo de competición\, a diferencia del remo olímpico o tradicional\, se desarrolla sobre un recorrido que está delimitado por una serie de boyas que hay que ir sorteando en un orden previsto\, y que hace que haya una disputa más directa y espectacular durante la competición. Además\, al desarrollarse en un entorno no estable\, en varias ocasiones no podemos hablar de que haya deportistas que tengan una superioridad total sobre sus rivales\, lo que hace que cada regata tenga una parcela de incertidumbre que en ocasiones influye en el resultado final.\n\n\n\n  \n  \n 
URL:https://www.juegosdelagua.es/event/campeonato-de-espana-de-remo-de-mar/
LOCATION:CAR Infanta Cristina\, P.º las Palmeras\, Los Alcázares\, Murcia\, 30710\, España
CATEGORIES:Remo
ATTACH;FMTTYPE=image/png:https://www.juegosdelagua.es/wp-content/uploads/2022/05/Copia-de-FER1-Logo-Color-e1653485321643.png
END:VEVENT
BEGIN:VEVENT
DTSTART;TZID=Europe/Madrid:20220922T080000
DTEND;TZID=Europe/Madrid:20220925T170000
DTSTAMP:20260423T084517
CREATED:20220524T151734Z
LAST-MODIFIED:20220715T090508Z
UID:1705-1663833600-1664125200@www.juegosdelagua.es
SUMMARY:Campeonato de España de Video Submarino
DESCRIPTION:CEVISUB es el Campeonato de España de Video Submarino que se celebra una vez al año con los mejores videografos del territorio nacional. Con sus trabajos nos muestran la belleza del mundo submarino en movimiento Mediante el visionado de los mismos\, un Jurado dará́ por orden de puntuación\, la clasificación individual general.  \nLos equipos participantes presentaran dos películas:  \n1.- Película con edición:   \n      Los participantes pueden incluir grabaciones en tierra\, voz en off\, archivos de audio\, títulos\, etc… elaborando un proyecto para contarnos una historia y mostrar su creatividad.  \n2.- Película sin edición:   \n      Máximo un minuto de duración donde nos deleitaran solo con las grabaciones subacuáticas y sin ningún tipo de edición  \nLos mejores clasificados de los NAFOSUB Y CEVISUB podrán ser seleccionados para representar a la Selección Española de Fotografia y de Video Subacuático en los eventos internacionales.  \n  \n  \n  \n \n 
URL:https://www.juegosdelagua.es/event/campeonato-de-espana-de-video-submarino/
LOCATION:Cabo de Palos\, Actividades Subacuáticas\, C/ del Faro\, 15\, Cartagena\, Murcia\, 30370\, España
CATEGORIES:Actividades Subacuáticas
ATTACH;FMTTYPE=image/png:https://www.juegosdelagua.es/wp-content/uploads/2022/05/Imagen-95-1.png
END:VEVENT
BEGIN:VEVENT
DTSTART;TZID=Europe/Madrid:20220922T080000
DTEND;TZID=Europe/Madrid:20220925T170000
DTSTAMP:20260423T084517
CREATED:20220524T140243Z
LAST-MODIFIED:20220715T090528Z
UID:1702-1663833600-1664125200@www.juegosdelagua.es
SUMMARY:Campeonato de España de Fotografía Submarina
DESCRIPTION:NAFOSUB es el Campeonato de España de Fotografía Submarina que se celebra una vez al año con los campeones de las Comunidades Autónomas provistos de equipos de inmersión\, para realizar fotografías submarinas durante un tiempo fijado y con carácter competitivo. Mediante el visionado de las mismas\, un Jurado dará por orden de puntuación\, la clasificación por categoría y la clasificación general.  Cada equipo formado por un fotógrafo y un co-fotógrafo presenta una colección de 6 fotografías con diferentes categorías representando la fauna y la belleza de los fondos marinos del lugar de competición. \n\n\n\n  \n 
URL:https://www.juegosdelagua.es/event/campeonato-de-espana-de-fotografia-submarina/
LOCATION:Cabo de Palos\, Actividades Subacuáticas\, C/ del Faro\, 15\, Cartagena\, Murcia\, 30370\, España
CATEGORIES:Actividades Subacuáticas
ATTACH;FMTTYPE=image/png:https://www.juegosdelagua.es/wp-content/uploads/2022/05/Imagen-95-1.png
END:VEVENT
END:VCALENDAR