BEGIN:VCALENDAR
VERSION:2.0
PRODID:-//Juegos del Agua - ECPv6.15.11//NONSGML v1.0//EN
CALSCALE:GREGORIAN
METHOD:PUBLISH
X-ORIGINAL-URL:https://www.juegosdelagua.es
X-WR-CALDESC:Eventos para Juegos del Agua
REFRESH-INTERVAL;VALUE=DURATION:PT1H
X-Robots-Tag:noindex
X-PUBLISHED-TTL:PT1H
BEGIN:VTIMEZONE
TZID:Europe/Madrid
BEGIN:DAYLIGHT
TZOFFSETFROM:+0100
TZOFFSETTO:+0200
TZNAME:CEST
DTSTART:20210328T010000
END:DAYLIGHT
BEGIN:STANDARD
TZOFFSETFROM:+0200
TZOFFSETTO:+0100
TZNAME:CET
DTSTART:20211031T010000
END:STANDARD
BEGIN:DAYLIGHT
TZOFFSETFROM:+0100
TZOFFSETTO:+0200
TZNAME:CEST
DTSTART:20220327T010000
END:DAYLIGHT
BEGIN:STANDARD
TZOFFSETFROM:+0200
TZOFFSETTO:+0100
TZNAME:CET
DTSTART:20221030T010000
END:STANDARD
BEGIN:DAYLIGHT
TZOFFSETFROM:+0100
TZOFFSETTO:+0200
TZNAME:CEST
DTSTART:20230326T010000
END:DAYLIGHT
BEGIN:STANDARD
TZOFFSETFROM:+0200
TZOFFSETTO:+0100
TZNAME:CET
DTSTART:20231029T010000
END:STANDARD
END:VTIMEZONE
BEGIN:VEVENT
DTSTART;TZID=Europe/Madrid:20220924T080000
DTEND;TZID=Europe/Madrid:20220925T170000
DTSTAMP:20260423T101317
CREATED:20220524T155345Z
LAST-MODIFIED:20220916T064635Z
UID:1729-1664006400-1664125200@www.juegosdelagua.es
SUMMARY:Campeonato de España de Motos de Agua de Offshore
DESCRIPTION:El Campeonato de España de Motos Acuáticas es\, actualmente\, uno de los deportes más vistosos y llamativos para el espectador. La mezcla del motor\, el mar y la velocidad\, lo hacen especialmente atractivo. Las competiciones contarán con motos de agua de hasta 400 cv y velocidades máximas de 140km. En un circuito delimitado por boyas\, los pilotos tendrán que dar el máximo para pasar el damero final en primera posición. En la prueba de offshrore los pilotos tendrán que demostrar también su capacidad de orientación en el mar\, en un recorrido tipo raid de casi 100 millas de distancia total.\n\n\n\n  \n 
URL:https://www.juegosdelagua.es/event/campeonato-de-espana-de-motos-de-agua-de-offshore/
LOCATION:Cabo de Palos\, Playa de Levante\, 44\, Cartagena\, Murcia\, 30370\, España
CATEGORIES:Motonáutica
ATTACH;FMTTYPE=image/png:https://www.juegosdelagua.es/wp-content/uploads/2022/05/41.RFEM_.png
END:VEVENT
BEGIN:VEVENT
DTSTART;TZID=Europe/Madrid:20220924T080000
DTEND;TZID=Europe/Madrid:20220925T170000
DTSTAMP:20260423T101317
CREATED:20220524T155242Z
LAST-MODIFIED:20220916T064655Z
UID:1726-1664006400-1664125200@www.juegosdelagua.es
SUMMARY:Campeonato de España de Motos de Agua de Rallyjet
DESCRIPTION:El Campeonato de España de Motos Acuáticas es\, actualmente\, uno de los deportes más vistosos y llamativos para el espectador. La mezcla del motor\, el mar y la velocidad\, lo hacen especialmente atractivo. Las competiciones contarán con motos de agua de hasta 400 cv y velocidades máximas de 140km. En un circuito delimitado por boyas\, los pilotos tendrán que dar el máximo para pasar el damero final en primera posición. En la prueba de offshrore los pilotos tendrán que demostrar también su capacidad de orientación en el mar\, en un recorrido tipo raid de casi 100 millas de distancia total.\n\n\n\n 
URL:https://www.juegosdelagua.es/event/campeonato-de-espana-de-motos-de-agua-de-rallyjet/
LOCATION:Cabo de Palos\, Playa de Levante\, 44\, Cartagena\, Murcia\, 30370\, España
CATEGORIES:Motonáutica
ATTACH;FMTTYPE=image/png:https://www.juegosdelagua.es/wp-content/uploads/2022/05/41.RFEM_.png
END:VEVENT
BEGIN:VEVENT
DTSTART;TZID=Europe/Madrid:20220924T080000
DTEND;TZID=Europe/Madrid:20220924T170000
DTSTAMP:20260423T101317
CREATED:20220524T154653Z
LAST-MODIFIED:20220916T064815Z
UID:1722-1664006400-1664038800@www.juegosdelagua.es
SUMMARY:Copa de España de Barco Dragón
DESCRIPTION:Copa de piragüismo modalidad Barco Dragón\, la cual es una embarcación cuya tripulación está compuesta de 12 o 22 palistas\, donde uno de ellos es el tambor\, que dirige el ritmo de palada\, y otro es el timonel\, que lleva la dirección del barco. Sus tripulaciones las forman tanto hombres como mujeres (pudiendo ser también mixtas)\, dentro de las categorías Júnior\, Sénior\, Open\, Mixto y Veteranos. La distancia de esta competencia será de 2.000 mts.
URL:https://www.juegosdelagua.es/event/copa-de-espana-de-barco-dragon/
LOCATION:San Pedro del Pinatar\, Playa la Puntica\, San Pedro del Pinatar\, Murcia\, 30740\, España
CATEGORIES:Piragüismo
ATTACH;FMTTYPE=image/png:https://www.juegosdelagua.es/wp-content/uploads/2022/05/Imagen-111.png
END:VEVENT
BEGIN:VEVENT
DTSTART;TZID=Europe/Madrid:20220923T080000
DTEND;TZID=Europe/Madrid:20220925T170000
DTSTAMP:20260423T101317
CREATED:20220524T155801Z
LAST-MODIFIED:20220526T133425Z
UID:1736-1663920000-1664125200@www.juegosdelagua.es
SUMMARY:XII Campeonato de España de Pesca desde Kayak
DESCRIPTION:El XII Campeonato de España de pesca desde kayak\, categoría absoluta\, se regirá por el reglamento de competiciones de pesca deportiva y casting de la FEPyC. La competición se realizará a dos mangas de cinco horas de duración en los escenarios y coordenadas previamente establecidas en la convocatoria. Para el Kayak se prohíbe cualquier tipo de propulsión que no sea la generada por la acción física del deportista y la distancia entre los participantes debe mantenerse en un mínimo de 50m.\n\n\n\n  \n 
URL:https://www.juegosdelagua.es/event/xii-campeonato-de-espana-de-pesca-desde-kayak/
LOCATION:Lo Pagán\, Club Náutico Villa de San Pedro\, San Pedro Del Pinatar\, Murcia\, 30740\, España
CATEGORIES:Pesca y Casting
ATTACH;FMTTYPE=image/jpeg:https://www.juegosdelagua.es/wp-content/uploads/2022/05/Logo2019_vertical250x230.jpeg
END:VEVENT
BEGIN:VEVENT
DTSTART;TZID=Europe/Madrid:20220923T080000
DTEND;TZID=Europe/Madrid:20220925T170000
DTSTAMP:20260423T101317
CREATED:20220524T154407Z
LAST-MODIFIED:20220713T125123Z
UID:1720-1663920000-1664125200@www.juegosdelagua.es
SUMMARY:Campeonato de España de Remo de Mar
DESCRIPTION:El Campeonato de España de Remo de Mar que celebraremos este año 2022 es la octava edición de una modalidad de remo que es la más joven en comparación con el remo olímpico y tradicional que se practica en España\, que por el contrario es la que más está creciendo exponencialmente y cada año se superan los récords de participación en esta prueba. Este tipo de competición\, a diferencia del remo olímpico o tradicional\, se desarrolla sobre un recorrido que está delimitado por una serie de boyas que hay que ir sorteando en un orden previsto\, y que hace que haya una disputa más directa y espectacular durante la competición. Además\, al desarrollarse en un entorno no estable\, en varias ocasiones no podemos hablar de que haya deportistas que tengan una superioridad total sobre sus rivales\, lo que hace que cada regata tenga una parcela de incertidumbre que en ocasiones influye en el resultado final.\n\n\n\n  \n  \n 
URL:https://www.juegosdelagua.es/event/campeonato-de-espana-de-remo-de-mar/
LOCATION:CAR Infanta Cristina\, P.º las Palmeras\, Los Alcázares\, Murcia\, 30710\, España
CATEGORIES:Remo
ATTACH;FMTTYPE=image/png:https://www.juegosdelagua.es/wp-content/uploads/2022/05/Copia-de-FER1-Logo-Color-e1653485321643.png
END:VEVENT
BEGIN:VEVENT
DTSTART;TZID=Europe/Madrid:20220922T080000
DTEND;TZID=Europe/Madrid:20220925T170000
DTSTAMP:20260423T101317
CREATED:20220524T151734Z
LAST-MODIFIED:20220715T090508Z
UID:1705-1663833600-1664125200@www.juegosdelagua.es
SUMMARY:Campeonato de España de Video Submarino
DESCRIPTION:CEVISUB es el Campeonato de España de Video Submarino que se celebra una vez al año con los mejores videografos del territorio nacional. Con sus trabajos nos muestran la belleza del mundo submarino en movimiento Mediante el visionado de los mismos\, un Jurado dará́ por orden de puntuación\, la clasificación individual general.  \nLos equipos participantes presentaran dos películas:  \n1.- Película con edición:   \n      Los participantes pueden incluir grabaciones en tierra\, voz en off\, archivos de audio\, títulos\, etc… elaborando un proyecto para contarnos una historia y mostrar su creatividad.  \n2.- Película sin edición:   \n      Máximo un minuto de duración donde nos deleitaran solo con las grabaciones subacuáticas y sin ningún tipo de edición  \nLos mejores clasificados de los NAFOSUB Y CEVISUB podrán ser seleccionados para representar a la Selección Española de Fotografia y de Video Subacuático en los eventos internacionales.  \n  \n  \n  \n \n 
URL:https://www.juegosdelagua.es/event/campeonato-de-espana-de-video-submarino/
LOCATION:Cabo de Palos\, Actividades Subacuáticas\, C/ del Faro\, 15\, Cartagena\, Murcia\, 30370\, España
CATEGORIES:Actividades Subacuáticas
ATTACH;FMTTYPE=image/png:https://www.juegosdelagua.es/wp-content/uploads/2022/05/Imagen-95-1.png
END:VEVENT
BEGIN:VEVENT
DTSTART;TZID=Europe/Madrid:20220922T080000
DTEND;TZID=Europe/Madrid:20220925T170000
DTSTAMP:20260423T101317
CREATED:20220524T140243Z
LAST-MODIFIED:20220715T090528Z
UID:1702-1663833600-1664125200@www.juegosdelagua.es
SUMMARY:Campeonato de España de Fotografía Submarina
DESCRIPTION:NAFOSUB es el Campeonato de España de Fotografía Submarina que se celebra una vez al año con los campeones de las Comunidades Autónomas provistos de equipos de inmersión\, para realizar fotografías submarinas durante un tiempo fijado y con carácter competitivo. Mediante el visionado de las mismas\, un Jurado dará por orden de puntuación\, la clasificación por categoría y la clasificación general.  Cada equipo formado por un fotógrafo y un co-fotógrafo presenta una colección de 6 fotografías con diferentes categorías representando la fauna y la belleza de los fondos marinos del lugar de competición. \n\n\n\n  \n 
URL:https://www.juegosdelagua.es/event/campeonato-de-espana-de-fotografia-submarina/
LOCATION:Cabo de Palos\, Actividades Subacuáticas\, C/ del Faro\, 15\, Cartagena\, Murcia\, 30370\, España
CATEGORIES:Actividades Subacuáticas
ATTACH;FMTTYPE=image/png:https://www.juegosdelagua.es/wp-content/uploads/2022/05/Imagen-95-1.png
END:VEVENT
END:VCALENDAR